BEGIN:VCALENDAR
VERSION:2.0
PRODID:-//World Fellowship Center - ECPv4.9.8//NONSGML v1.0//EN
CALSCALE:GREGORIAN
METHOD:PUBLISH
X-WR-CALNAME:World Fellowship Center
X-ORIGINAL-URL:https://worldfellowship.org
X-WR-CALDESC:Events for World Fellowship Center
BEGIN:VTIMEZONE
TZID:America/New_York
BEGIN:DAYLIGHT
TZOFFSETFROM:-0500
TZOFFSETTO:-0400
TZNAME:EDT
DTSTART:20220313T070000
END:DAYLIGHT
BEGIN:STANDARD
TZOFFSETFROM:-0400
TZOFFSETTO:-0500
TZNAME:EST
DTSTART:20221106T060000
END:STANDARD
END:VTIMEZONE
BEGIN:VEVENT
DTSTART;TZID="America/New_York":20220820T093000
DTEND;TZID="America/New_York":20220820T110000
DTSTAMP:20260423T191524
CREATED:20220802T191225Z
LAST-MODIFIED:20220802T191225Z
UID:4667-1660987800-1660993200@worldfellowship.org
SUMMARY:Climate and Militarism - Interconnections
DESCRIPTION:Join us for a conversation on the intersection of militarism and climate crisis with Massachusetts Peace Action (MAPA) Peace and Climate working group member Nick Rabb! He will be talking about why it’s necessary to organize against systems of domination\, including militarized ones\, if we are to address the climate crisis. He’d also like to talk about how we get there — organizing and political tactics that he sees as essential for doing this work. Nick Rabb is a PhD candidate at Tufts\, an organizer with Dissenters and a former member of Sunrise\, his PHD topic is “Disinformation”. \n
URL:https://worldfellowship.org/event/climate-and-militarism-interconnections/
LOCATION:World Fellowship Center\, 368 Drake Hill Rd\, Albany\, NH\, 03818\, United States
END:VEVENT
BEGIN:VEVENT
DTSTART;TZID="America/New_York":20220820T110000
DTEND;TZID="America/New_York":20220820T120000
DTSTAMP:20260423T191524
CREATED:20220818T150028Z
LAST-MODIFIED:20220818T150028Z
UID:4767-1660993200-1660996800@worldfellowship.org
SUMMARY:Beyond Nuclear
DESCRIPTION:Join Paul and Linda Gunter\, Co-Directors of Beyond Nuclear\, for a program updating us on nuclear weapons- as they have recently returned from the International Campaign to Abolish Nuclear Weapons! \n
URL:https://worldfellowship.org/event/beyond-nuclear/
LOCATION:World Fellowship Center\, 368 Drake Hill Rd\, Albany\, NH\, 03818\, United States
END:VEVENT
BEGIN:VEVENT
DTSTART;TZID="America/New_York":20220820T133000
DTEND;TZID="America/New_York":20220820T143000
DTSTAMP:20260423T191524
CREATED:20220818T145202Z
LAST-MODIFIED:20220818T145202Z
UID:4765-1661002200-1661005800@worldfellowship.org
SUMMARY:No Coal No Gas with Emma-Shapiro Weiss
DESCRIPTION:No Coal No Gas is a campaign to shut down the last coal power plant in New England\, in Bow\, NH. In just one hour\, the Merrimack Generating Station emits as much carbon as the average American does in 26 years. Ratepayers pay millions of dollars in subsidies even though the plant provides less than 1% of our power. Learn more about this strong regional coalition. \n
URL:https://worldfellowship.org/event/no-coal-no-gas-with-emma-shapiro-weiss/
LOCATION:World Fellowship Center\, 368 Drake Hill Rd\, Albany\, NH\, 03818\, United States
END:VEVENT
END:VCALENDAR