BEGIN:VCALENDAR
VERSION:2.0
PRODID:-//World Fellowship Center - ECPv4.9.8//NONSGML v1.0//EN
CALSCALE:GREGORIAN
METHOD:PUBLISH
X-WR-CALNAME:World Fellowship Center
X-ORIGINAL-URL:https://worldfellowship.org
X-WR-CALDESC:Events for World Fellowship Center
BEGIN:VTIMEZONE
TZID:America/New_York
BEGIN:DAYLIGHT
TZOFFSETFROM:-0500
TZOFFSETTO:-0400
TZNAME:EDT
DTSTART:20220313T070000
END:DAYLIGHT
BEGIN:STANDARD
TZOFFSETFROM:-0400
TZOFFSETTO:-0500
TZNAME:EST
DTSTART:20221106T060000
END:STANDARD
END:VTIMEZONE
BEGIN:VEVENT
DTSTART;TZID="America/New_York":20220823T193000
DTEND;TZID="America/New_York":20220823T210000
DTSTAMP:20260423T145346
CREATED:20220725T000909Z
LAST-MODIFIED:20220725T000909Z
UID:4543-1661283000-1661288400@worldfellowship.org
SUMMARY:The Tao of K-Drama
DESCRIPTION:How does ancient Korean wisdom show up on television and how can this wisdom help us navigate modern times? Join us to explore this cross section of ancient wisdom and modernity with Mindy Fullilove. Mindy  is a psychiatrist and a professor of urban policy and health at The New School in New York City. \n
URL:https://worldfellowship.org/event/the-tao-of-k-drama/
LOCATION:World Fellowship Center\, 368 Drake Hill Rd\, Albany\, NH\, 03818\, United States
END:VEVENT
END:VCALENDAR