BEGIN:VCALENDAR
VERSION:2.0
PRODID:-//World Fellowship Center - ECPv4.9.8//NONSGML v1.0//EN
CALSCALE:GREGORIAN
METHOD:PUBLISH
X-WR-CALNAME:World Fellowship Center
X-ORIGINAL-URL:https://worldfellowship.org
X-WR-CALDESC:Events for World Fellowship Center
BEGIN:VTIMEZONE
TZID:America/New_York
BEGIN:DAYLIGHT
TZOFFSETFROM:-0500
TZOFFSETTO:-0400
TZNAME:EDT
DTSTART:20230312T070000
END:DAYLIGHT
BEGIN:STANDARD
TZOFFSETFROM:-0400
TZOFFSETTO:-0500
TZNAME:EST
DTSTART:20231105T060000
END:STANDARD
END:VTIMEZONE
BEGIN:VEVENT
DTSTART;TZID="America/New_York":20230703T193000
DTEND;TZID="America/New_York":20230703T210000
DTSTAMP:20260425T152419
CREATED:20230314T025412Z
LAST-MODIFIED:20230615T190051Z
UID:5177-1688412600-1688418000@worldfellowship.org
SUMMARY:Cuba: What's Old\, What's New?
DESCRIPTION:Diane Stradling traveled to Cuba for the 11th time this past February. In this session\, she will share her experiences in Cuba and describe current U.S.-Cuba Relations. \n
URL:https://worldfellowship.org/event/cuba-whats-old-whats-new/
LOCATION:World Fellowship Center\, 368 Drake Hill Rd\, Albany\, NH\, 03818\, United States
END:VEVENT
END:VCALENDAR