BEGIN:VCALENDAR
VERSION:2.0
PRODID:-//World Fellowship Center - ECPv4.9.8//NONSGML v1.0//EN
CALSCALE:GREGORIAN
METHOD:PUBLISH
X-WR-CALNAME:World Fellowship Center
X-ORIGINAL-URL:https://worldfellowship.org
X-WR-CALDESC:Events for World Fellowship Center
BEGIN:VTIMEZONE
TZID:America/New_York
BEGIN:DAYLIGHT
TZOFFSETFROM:-0500
TZOFFSETTO:-0400
TZNAME:EDT
DTSTART:20230312T070000
END:DAYLIGHT
BEGIN:STANDARD
TZOFFSETFROM:-0400
TZOFFSETTO:-0500
TZNAME:EST
DTSTART:20231105T060000
END:STANDARD
END:VTIMEZONE
BEGIN:VEVENT
DTSTART;TZID="America/New_York":20230706T193000
DTEND;TZID="America/New_York":20230706T210000
DTSTAMP:20260425T152333
CREATED:20230314T025353Z
LAST-MODIFIED:20230615T190051Z
UID:5184-1688671800-1688677200@worldfellowship.org
SUMMARY:Public & Private in Energy\, Climate & Weather
DESCRIPTION:Dan Kirk-Davidoff is a climate and energy systems scientist. In this presentation\, Dan will share the evolution of public and private organizations operating in the realm of weather and cimate change\, and consider how different governance and ownership models influence policy\, public and private knowledge and behavior. We’ll explore the question: What is the proper role of government and private organizations in weather forecasting and climate analysis and prediction? \n
URL:https://worldfellowship.org/event/public-private-in-energy-climate-weather/
LOCATION:World Fellowship Center\, 368 Drake Hill Rd\, Albany\, NH\, 03818\, United States
END:VEVENT
END:VCALENDAR