BEGIN:VCALENDAR
VERSION:2.0
PRODID:-//World Fellowship Center - ECPv4.9.8//NONSGML v1.0//EN
CALSCALE:GREGORIAN
METHOD:PUBLISH
X-WR-CALNAME:World Fellowship Center
X-ORIGINAL-URL:https://worldfellowship.org
X-WR-CALDESC:Events for World Fellowship Center
BEGIN:VTIMEZONE
TZID:America/New_York
BEGIN:DAYLIGHT
TZOFFSETFROM:-0500
TZOFFSETTO:-0400
TZNAME:EDT
DTSTART:20230312T070000
END:DAYLIGHT
BEGIN:STANDARD
TZOFFSETFROM:-0400
TZOFFSETTO:-0500
TZNAME:EST
DTSTART:20231105T060000
END:STANDARD
END:VTIMEZONE
BEGIN:VEVENT
DTSTART;TZID="America/New_York":20230711T193000
DTEND;TZID="America/New_York":20230711T210000
DTSTAMP:20260424T204353
CREATED:20230314T025353Z
LAST-MODIFIED:20230615T190041Z
UID:5212-1689103800-1689109200@worldfellowship.org
SUMMARY:Understanding History Through Fiction
DESCRIPTION:Ellen Meeropol is a novelist and co-facilitator of the Mt. Chocorua Writing Week. The novelist Dahlma LlanosFigueroa writes that “history reflects life from the outside in. Fiction reflects life from the inside out. One focuses on events\, the other on the effects of those events on characters.” Ellen will read from her new novel\, The Lost Women of Azalea Court\, and talk about writing fiction based on real-life abuse of power. Q & A to follow. \n
URL:https://worldfellowship.org/event/understanding-history-through-fiction/
LOCATION:World Fellowship Center\, 368 Drake Hill Rd\, Albany\, NH\, 03818\, United States
END:VEVENT
END:VCALENDAR