BEGIN:VCALENDAR
VERSION:2.0
PRODID:-//World Fellowship Center - ECPv4.9.8//NONSGML v1.0//EN
CALSCALE:GREGORIAN
METHOD:PUBLISH
X-WR-CALNAME:World Fellowship Center
X-ORIGINAL-URL:https://worldfellowship.org
X-WR-CALDESC:Events for World Fellowship Center
BEGIN:VTIMEZONE
TZID:America/New_York
BEGIN:DAYLIGHT
TZOFFSETFROM:-0500
TZOFFSETTO:-0400
TZNAME:EDT
DTSTART:20230312T070000
END:DAYLIGHT
BEGIN:STANDARD
TZOFFSETFROM:-0400
TZOFFSETTO:-0500
TZNAME:EST
DTSTART:20231105T060000
END:STANDARD
END:VTIMEZONE
BEGIN:VEVENT
DTSTART;TZID="America/New_York":20230715T100000
DTEND;TZID="America/New_York":20230715T120000
DTSTAMP:20260424T140056
CREATED:20230314T025215Z
LAST-MODIFIED:20230615T190041Z
UID:5427-1689415200-1689422400@worldfellowship.org
SUMMARY:Learning about World Fellowship's Land
DESCRIPTION:Three years ago\, World Fellowship granted three separate conservation easements to the Upper Saco Valley Land Trust in order to permanently protect nearly 400 acres of the land and shorefront on Whitton Pond. Part of this process included an assessment of our land to see what was there. Learn about what they identified in their survey – streams\, marshes\, peatlands\, swamps\, vernal pools\, trees and rich forest soil\, and nesting sites for the Common Loon\, who have returned to Whitton Pond for over 100 years. \n
URL:https://worldfellowship.org/event/learning-about-world-fellowships-land/
LOCATION:World Fellowship Center\, 368 Drake Hill Rd\, Albany\, NH\, 03818\, United States
END:VEVENT
BEGIN:VEVENT
DTSTART;TZID="America/New_York":20230715T140000
DTEND;TZID="America/New_York":20230716T140000
DTSTAMP:20260424T140056
CREATED:20230314T025215Z
LAST-MODIFIED:20230615T190041Z
UID:5425-1689429600-1689516000@worldfellowship.org
SUMMARY:Bio Blitz
DESCRIPTION:World Fellowship is hosting a Bio Blitz on Saturday and Sunday\, in which small teams will work with naturalists to find and identify as many species as possible on our four hundred wooded acres\, wetlands\, and ponds within a 24 hour period. This includes trees\, plants\, birds\, insects\, mushrooms\, birds\, and other animals. It will also offer the opportunity for nature drawing lead by experienced illustrators.This event will be led by Larry Millman\, author\, mycologist and world explorer\, who will be joined by other environmental groups. Weekend and overnight visitors can reserve lodging and pre-register here\, or email our office. Day visitors\, please write to office@worldfellowship.org to pre-register for BioBlitz and inquire about meal options during your visit. \n
URL:https://worldfellowship.org/event/bio-blitz/
LOCATION:World Fellowship Center\, 368 Drake Hill Rd\, Albany\, NH\, 03818\, United States
END:VEVENT
BEGIN:VEVENT
DTSTART;TZID="America/New_York":20230715T193000
DTEND;TZID="America/New_York":20230715T210000
DTSTAMP:20260424T140056
CREATED:20230314T025242Z
LAST-MODIFIED:20230615T190041Z
UID:5417-1689449400-1689454800@worldfellowship.org
SUMMARY:Bloco Montanha Verde
DESCRIPTION:Burlington Vermont’s own samba street band is guaranteed to get you on your feet and moving to its pulsating carnaval rhythms. The huge sound of drummers playing their contagious brand of Afro-Brazilian percussion is irresistable to people of all ages. Patterned after Brazilian Carnaval percussion orchestras with up to 300 musicians\, Bloco Montanha Verde is a smaller scale version of the traditional community street bands found in Rio de Janeiro and Salvador. Smaller to fit the scale of their Vermont home\, the band still produces a BIG sound! \n
URL:https://worldfellowship.org/event/bloco-montanha-verde/
LOCATION:World Fellowship Center\, 368 Drake Hill Rd\, Albany\, NH\, 03818\, United States
END:VEVENT
END:VCALENDAR