BEGIN:VCALENDAR
VERSION:2.0
PRODID:-//World Fellowship Center - ECPv4.9.8//NONSGML v1.0//EN
CALSCALE:GREGORIAN
METHOD:PUBLISH
X-WR-CALNAME:World Fellowship Center
X-ORIGINAL-URL:https://worldfellowship.org
X-WR-CALDESC:Events for World Fellowship Center
BEGIN:VTIMEZONE
TZID:America/New_York
BEGIN:DAYLIGHT
TZOFFSETFROM:-0500
TZOFFSETTO:-0400
TZNAME:EDT
DTSTART:20230312T070000
END:DAYLIGHT
BEGIN:STANDARD
TZOFFSETFROM:-0400
TZOFFSETTO:-0500
TZNAME:EST
DTSTART:20231105T060000
END:STANDARD
END:VTIMEZONE
BEGIN:VEVENT
DTSTART;TZID="America/New_York":20230718T193000
DTEND;TZID="America/New_York":20230718T210000
DTSTAMP:20260425T152351
CREATED:20230314T025215Z
LAST-MODIFIED:20230615T190041Z
UID:5431-1689708600-1689714000@worldfellowship.org
SUMMARY:Empowerment to Action on the Climate Crisis
DESCRIPTION:Lynne Cherry is a climate activist\, author and illustrator of over thirty nature-themed children’s books including the NY Times best-seller\, Under the Kapok Tree\, a picture book about the ecological importance of the Amazon rainforest. She has also founded and directed the Center for Children’s Environmental Literature and Young Voices for the Planet\, and has produced documentary films which highlight the power the young people have to take action about the climate crisis. Lynne will talk about the actions that she has taken as an individual advocate and as a catalyst to empower others\, especially young people\, to take action on the climate crisis. \n
URL:https://worldfellowship.org/event/empowerment-to-action-on-the-climate-crisis/
LOCATION:World Fellowship Center\, 368 Drake Hill Rd\, Albany\, NH\, 03818\, United States
END:VEVENT
END:VCALENDAR