BEGIN:VCALENDAR
VERSION:2.0
PRODID:-//World Fellowship Center - ECPv4.9.8//NONSGML v1.0//EN
CALSCALE:GREGORIAN
METHOD:PUBLISH
X-WR-CALNAME:World Fellowship Center
X-ORIGINAL-URL:https://worldfellowship.org
X-WR-CALDESC:Events for World Fellowship Center
BEGIN:VTIMEZONE
TZID:America/New_York
BEGIN:DAYLIGHT
TZOFFSETFROM:-0500
TZOFFSETTO:-0400
TZNAME:EDT
DTSTART:20230312T070000
END:DAYLIGHT
BEGIN:STANDARD
TZOFFSETFROM:-0400
TZOFFSETTO:-0500
TZNAME:EST
DTSTART:20231105T060000
END:STANDARD
END:VTIMEZONE
BEGIN:VEVENT
DTSTART;VALUE=DATE:20230728
DTEND;VALUE=DATE:20230731
DTSTAMP:20260421T062450
CREATED:20230314T025432Z
LAST-MODIFIED:20230615T190032Z
UID:5250-1690502400-1690761599@worldfellowship.org
SUMMARY:Seasoned Clams Anti-Nuke Reunion
DESCRIPTION:“Seasoned Clams” is a group of anti-nukers who came together in the 1970s as the New England-Wide Clamshell Alliance to stop a nuclear power plant in Seabrook\, New Hampshire through direct action and civil disobedience. We’re thrilled that they keep gathering at World Fellowship each summer\, not just for reunion\, but to share their important continuing work\, anti-nuclear and more.  \n
URL:https://worldfellowship.org/event/seasoned-clams-anti-nuke-reunion/
LOCATION:World Fellowship Center\, 368 Drake Hill Rd\, Albany\, NH\, 03818\, United States
END:VEVENT
BEGIN:VEVENT
DTSTART;TZID="America/New_York":20230729T100000
DTEND;TZID="America/New_York":20230729T120000
DTSTAMP:20260421T062450
CREATED:20230314T025342Z
LAST-MODIFIED:20230615T190032Z
UID:5252-1690624800-1690632000@worldfellowship.org
SUMMARY:Multicultural History of Women & Music & All of Us Finding Our Own Voice
DESCRIPTION:Judy Gorman is a singer\, songwriter and guitarist. Our society pushes passive commercial consumption of culture rather than creating and sharing it\, which isolates and disempowers us. Most people insist they can not sing and can learn this is not true. This workshop will share decades of research on our musical heritage and will support workshop attendees in exploring how to find their own voice …and use that voice. Songs will be performed and shared. Another world is indeed possible.  \n
URL:https://worldfellowship.org/event/multicultural-history-of-women-music-all-of-us-finding-our-own-voice/
LOCATION:World Fellowship Center\, 368 Drake Hill Rd\, Albany\, NH\, 03818\, United States
END:VEVENT
BEGIN:VEVENT
DTSTART;TZID="America/New_York":20230729T193000
DTEND;TZID="America/New_York":20230729T210000
DTSTAMP:20260421T062450
CREATED:20230314T025342Z
LAST-MODIFIED:20230615T190032Z
UID:5296-1690659000-1690664400@worldfellowship.org
SUMMARY:Tomas Rodriguez\, Julian Gerstin and Barry Kornhauser
DESCRIPTION:Bringing a unique blend of repertoire and instrumentation\, Tomas Rodriguez (guitar) with Julian Gerstin (percussion) and Barry Kornhauser (cello) present an engaging mix of music ranging from the tunes of Venezuelan harp masters to unique arrangements of the compositions of the Malian kora virtuoso Toumani Diabaté. Their own compositions\, emerging from their diverse musical inspirations\, include Argentinian milongas\, Brazilian choros\, and contemporary flamenco. \n
URL:https://worldfellowship.org/event/tomas-rodriguez-julian-gerstin-and-barry-kornhauser/
LOCATION:World Fellowship Center\, 368 Drake Hill Rd\, Albany\, NH\, 03818\, United States
END:VEVENT
END:VCALENDAR