BEGIN:VCALENDAR
VERSION:2.0
PRODID:-//World Fellowship Center - ECPv4.9.8//NONSGML v1.0//EN
CALSCALE:GREGORIAN
METHOD:PUBLISH
X-WR-CALNAME:World Fellowship Center
X-ORIGINAL-URL:https://worldfellowship.org
X-WR-CALDESC:Events for World Fellowship Center
BEGIN:VTIMEZONE
TZID:America/New_York
BEGIN:DAYLIGHT
TZOFFSETFROM:-0500
TZOFFSETTO:-0400
TZNAME:EDT
DTSTART:20230312T070000
END:DAYLIGHT
BEGIN:STANDARD
TZOFFSETFROM:-0400
TZOFFSETTO:-0500
TZNAME:EST
DTSTART:20231105T060000
END:STANDARD
END:VTIMEZONE
BEGIN:VEVENT
DTSTART;TZID="America/New_York":20230805T100000
DTEND;TZID="America/New_York":20230805T120000
DTSTAMP:20260425T153620
CREATED:20230314T025342Z
LAST-MODIFIED:20230615T190003Z
UID:5264-1691229600-1691236800@worldfellowship.org
SUMMARY:"War is the Greatest Evil"
DESCRIPTION:Liz Kelner is a retired social worker\, lifelong activist for peace and justice\, and group facilitator who’s been coming to WFC since 1972.  Liz uses Chris Hedge’s book of the same name as the foundation for an interactive workshop\, beginning with the premise that there is no justification for initiating war\, ever\, for any reason. A lively exchange of ideas will be encouraged! \n
URL:https://worldfellowship.org/event/war-is-the-greatest-evil/
LOCATION:World Fellowship Center\, 368 Drake Hill Rd\, Albany\, NH\, 03818\, United States
END:VEVENT
BEGIN:VEVENT
DTSTART;TZID="America/New_York":20230805T193000
DTEND;TZID="America/New_York":20230805T210000
DTSTAMP:20260425T153620
CREATED:20230314T025242Z
LAST-MODIFIED:20230615T190003Z
UID:5298-1691263800-1691269200@worldfellowship.org
SUMMARY:Ty Citerman
DESCRIPTION:Guitarist/composer Ty Citerman performs with a wide range of ensembles\, including his newest Time Phase Trio and radical Yiddish songsters Bop Kabbalah+Voices. This summer\, he returns to WFC to perform a special solo set of original music\, improvisations\, jazz tunes\, classical and folk pieces\, plus a handful of surprises from his diverse palette of musical interests. Six strings with electronics will make for a truly engaging and provocative Saturday night set.  \n
URL:https://worldfellowship.org/event/ty-citerman/
LOCATION:World Fellowship Center\, 368 Drake Hill Rd\, Albany\, NH\, 03818\, United States
END:VEVENT
END:VCALENDAR