BEGIN:VCALENDAR
VERSION:2.0
PRODID:-//World Fellowship Center - ECPv4.9.8//NONSGML v1.0//EN
CALSCALE:GREGORIAN
METHOD:PUBLISH
X-WR-CALNAME:World Fellowship Center
X-ORIGINAL-URL:https://worldfellowship.org
X-WR-CALDESC:Events for World Fellowship Center
BEGIN:VTIMEZONE
TZID:America/New_York
BEGIN:DAYLIGHT
TZOFFSETFROM:-0500
TZOFFSETTO:-0400
TZNAME:EDT
DTSTART:20230312T070000
END:DAYLIGHT
BEGIN:STANDARD
TZOFFSETFROM:-0400
TZOFFSETTO:-0500
TZNAME:EST
DTSTART:20231105T060000
END:STANDARD
END:VTIMEZONE
BEGIN:VEVENT
DTSTART;TZID="America/New_York":20230812T100000
DTEND;TZID="America/New_York":20230812T120000
DTSTAMP:20260425T165918
CREATED:20230314T025215Z
LAST-MODIFIED:20230615T185947Z
UID:5435-1691834400-1691841600@worldfellowship.org
SUMMARY:Nigeria's 2023 Elections -- Ground-Level Observations & Global Reflections
DESCRIPTION:In February-March 2023\, Nigeria went to the polls and has been passing through some of the most problematic and contested elections since its transition to democracy in 1999. Megan Chapman and Andrew Maki\, who have lived and worked in Nigeria for the past 11 years\, will share their own observations and the lived realities of their neighbors and colleagues in Lagos throughout this period – while reflecting on how political messaging used by the media-savvy party in power reflects recent global and US trends. This will be a unique opportunity to understand first-hand the struggles for democracy in the “giant of Africa” — a country whose youthful population is predicted to overtake the United States by 2050. \n
URL:https://worldfellowship.org/event/nigerias-2023-elections-ground-level-observations-global-reflections/
LOCATION:World Fellowship Center\, 368 Drake Hill Rd\, Albany\, NH\, 03818\, United States
END:VEVENT
BEGIN:VEVENT
DTSTART;TZID="America/New_York":20230812T193000
DTEND;TZID="America/New_York":20230812T210000
DTSTAMP:20260425T165918
CREATED:20230314T025242Z
LAST-MODIFIED:20230615T185947Z
UID:5301-1691868600-1691874000@worldfellowship.org
SUMMARY:Sol y Canto
DESCRIPTION:It’s not summer at World Fellowship without Rosi and Brian Amador and the magical sounds of Sol y Canto. The good news? In 2023\, it will be summer at World Fellowship again as they bring their special blend of “Latin roots music to change the world.” \n
URL:https://worldfellowship.org/event/sol-y-canto/
LOCATION:World Fellowship Center\, 368 Drake Hill Rd\, Albany\, NH\, 03818\, United States
END:VEVENT
END:VCALENDAR