BEGIN:VCALENDAR
VERSION:2.0
PRODID:-//World Fellowship Center - ECPv4.9.8//NONSGML v1.0//EN
CALSCALE:GREGORIAN
METHOD:PUBLISH
X-WR-CALNAME:World Fellowship Center
X-ORIGINAL-URL:https://worldfellowship.org
X-WR-CALDESC:Events for World Fellowship Center
BEGIN:VTIMEZONE
TZID:America/New_York
BEGIN:DAYLIGHT
TZOFFSETFROM:-0500
TZOFFSETTO:-0400
TZNAME:EDT
DTSTART:20230312T070000
END:DAYLIGHT
BEGIN:STANDARD
TZOFFSETFROM:-0400
TZOFFSETTO:-0500
TZNAME:EST
DTSTART:20231105T060000
END:STANDARD
END:VTIMEZONE
BEGIN:VEVENT
DTSTART;TZID="America/New_York":20230826T100000
DTEND;TZID="America/New_York":20230826T120000
DTSTAMP:20260425T170308
CREATED:20230314T025215Z
LAST-MODIFIED:20230615T185934Z
UID:5443-1693044000-1693051200@worldfellowship.org
SUMMARY:On Women's Equality Day: Celebrating\, Understanding and Protecting the Right to Vote
DESCRIPTION:Olivia Zink\, Director of Open Democracy NH\, and Liz Tentarelli\, President of League of Women Voters NH. On Women’s Equality Day\, join us to commemorate women’s efforts to win the vote 103 years ago. We’ll talk about some of the tactics and key figures in the long struggle for women’s voting rights. We’ll explore who else has been left out of voting\, and why voting is so important but still at risk. What does this statement by an early activist for women’s rights mean today? “Voting is the right by which we secure all our other rights” \n
URL:https://worldfellowship.org/event/on-womens-equality-day-celebrating-understanding-and-protecting-the-right-to-vote/
LOCATION:World Fellowship Center\, 368 Drake Hill Rd\, Albany\, NH\, 03818\, United States
END:VEVENT
BEGIN:VEVENT
DTSTART;TZID="America/New_York":20230826T193000
DTEND;TZID="America/New_York":20230826T210000
DTSTAMP:20260425T170308
CREATED:20230314T025242Z
LAST-MODIFIED:20230615T185934Z
UID:5305-1693078200-1693083600@worldfellowship.org
SUMMARY:Lucy Stone is Coming to Town
DESCRIPTION:Storyteller and actress Judith Black will bring Lucy Stone to life on stage. There was a time in our national history when a married woman did not have legal rights to the money she earned\, the property she inherited\, or the children she bore. During this same era citizens of the United States thought it a legal and rational pursuit to buy and trade human beings. Lucy Stone\, (born Brookfield Massachusetts 1818)\, decided this was not the nation she wanted to grow old in and spent her life speaking out. Crisscrossing the country\, she spoke eloquently and passionately about the most important issues of her time. A contemporary of Susan B Anthony and Elizabeth Cady Stanton\, Lucy Stone\, the best known female orator of her era\, will appear at World Fellowship. She will address the issues of woman’s rights and abolition plus share with her audience chapters from own life. \n
URL:https://worldfellowship.org/event/lucy-stone-is-coming-to-town/
LOCATION:World Fellowship Center\, 368 Drake Hill Rd\, Albany\, NH\, 03818\, United States
END:VEVENT
END:VCALENDAR