BEGIN:VCALENDAR
VERSION:2.0
PRODID:-//World Fellowship Center - ECPv4.9.8//NONSGML v1.0//EN
CALSCALE:GREGORIAN
METHOD:PUBLISH
X-WR-CALNAME:World Fellowship Center
X-ORIGINAL-URL:https://worldfellowship.org
X-WR-CALDESC:Events for World Fellowship Center
BEGIN:VTIMEZONE
TZID:America/New_York
BEGIN:DAYLIGHT
TZOFFSETFROM:-0500
TZOFFSETTO:-0400
TZNAME:EDT
DTSTART:20250309T070000
END:DAYLIGHT
BEGIN:STANDARD
TZOFFSETFROM:-0400
TZOFFSETTO:-0500
TZNAME:EST
DTSTART:20251102T060000
END:STANDARD
END:VTIMEZONE
BEGIN:VEVENT
DTSTART;TZID="America/New_York":20250710T150000
DTEND;TZID="America/New_York":20250713T133000
DTSTAMP:20260423T090017
CREATED:20250418T134517Z
LAST-MODIFIED:20250501T121957Z
UID:6496-1752159600-1752413400@worldfellowship.org
SUMMARY:White Mountain Ukulele Retreat
DESCRIPTION: \nThe White Mountain Ukulele Retreat is a weekend community gathering where members of the various ukulele communities in New England (and elsewhere) can gather to learn from local teachers and musicians\, jam\, have fun\, and build relationships. Check here for more details about the weekend program. Please register in advance for the retreat! \n
URL:https://worldfellowship.org/event/white-mountain-ukulele-retreat/
LOCATION:World Fellowship Center\, 368 Drake Hill Rd\, Albany\, NH\, 03818\, United States
CATEGORIES:Cultural/Community Entertainment,Music,Workshop
END:VEVENT
BEGIN:VEVENT
DTSTART;TZID="America/New_York":20250711T160000
DTEND;TZID="America/New_York":20250711T173000
DTSTAMP:20260423T090017
CREATED:20250606T171904Z
LAST-MODIFIED:20250630T185038Z
UID:6796-1752249600-1752255000@worldfellowship.org
SUMMARY:Leftover Drawing and Paper Lab (Rachael Cole)
DESCRIPTION: \nDo you have stacks of old drawings\, works on paper\, or scrap paper lying around? Want to give a second life to artwork that seemed “unsuccessful” the first time? put all those junk envelopes and colored scraps of paper to use. Maybe your kids have old drawings they are ready to let go of. Those can all become beautiful new objects. \nWe will choose items to create from our discards\, like cut shapes\, collages\, envelopes\, note cards\, beads\, jewelry\, boxes\, and repurposed plastic containers. \nThis is a hands-on experimentation and collaboration for our community. \nThere will be a variety of tools on hand\, including paper bead makers\, box templates\, and clean\, used containers. If there is interest\, we can start a project that continues to build as the summer continues. \nRachael Cole is a third generation WFC community member\, a visual artist and a children’s book author and illustrator. \n
URL:https://worldfellowship.org/event/leftover-drawing-and-paper-lab-rachael-cole/2025-07-11/
LOCATION:World Fellowship Center\, 368 Drake Hill Rd\, Albany\, NH\, 03818\, United States
CATEGORIES:Art on the Porch
END:VEVENT
BEGIN:VEVENT
DTSTART;TZID="America/New_York":20250711T193000
DTEND;TZID="America/New_York":20250711T210000
DTSTAMP:20260423T090017
CREATED:20250421T031050Z
LAST-MODIFIED:20250421T031050Z
UID:6538-1752262200-1752267600@worldfellowship.org
SUMMARY:Fun Night!
DESCRIPTION:Every Friday\, bring your song\, poem\, skit\, stand-up routine\, strange-but-beguiling act\, instrument\, dance\, juggling\, children’s plays\, etc.\, to entertain and amuse at Fun Night. All ages\, all acts… all love it\, every Friday! Sign up ahead or let the spirit move you. \n
URL:https://worldfellowship.org/event/fun-night-3/2025-07-11/
LOCATION:World Fellowship Center\, 368 Drake Hill Rd\, Albany\, NH\, 03818\, United States
CATEGORIES:Community Event
END:VEVENT
END:VCALENDAR