BEGIN:VCALENDAR
VERSION:2.0
PRODID:-//World Fellowship Center - ECPv4.9.8//NONSGML v1.0//EN
CALSCALE:GREGORIAN
METHOD:PUBLISH
X-WR-CALNAME:World Fellowship Center
X-ORIGINAL-URL:https://worldfellowship.org
X-WR-CALDESC:Events for World Fellowship Center
BEGIN:VTIMEZONE
TZID:America/New_York
BEGIN:DAYLIGHT
TZOFFSETFROM:-0500
TZOFFSETTO:-0400
TZNAME:EDT
DTSTART:20250309T070000
END:DAYLIGHT
BEGIN:STANDARD
TZOFFSETFROM:-0400
TZOFFSETTO:-0500
TZNAME:EST
DTSTART:20251102T060000
END:STANDARD
END:VTIMEZONE
BEGIN:VEVENT
DTSTART;TZID="America/New_York":20250823T193000
DTEND;TZID="America/New_York":20250823T210000
DTSTAMP:20260423T163645
CREATED:20250418T063319Z
LAST-MODIFIED:20250418T085340Z
UID:6490-1755977400-1755982800@worldfellowship.org
SUMMARY:Extraordinary Rendition Band (Music Performance)
DESCRIPTION: \nThe Extraordinary Rendition Band (ERB) is a proudly diverse group of activist musicians based in Providence\, Rhode Island. We specialize in creating spontaneous moments of raucous musical joy. Our eclectic repertoire combines beauty\, noise\, and heart in equal parts. ERB appears in the streets and in public spaces at scheduled performances\, protests\, and benefits—but we also show up when you least expect us. We love to make you dance\, and we invite everyone within earshot to join in the general experience of awesomeness. \n
URL:https://worldfellowship.org/event/extraordinary-rendition-band-music-performance/
LOCATION:World Fellowship Center\, 368 Drake Hill Rd\, Albany\, NH\, 03818\, United States
CATEGORIES:Cultural/Community Entertainment,Music
END:VEVENT
END:VCALENDAR