BEGIN:VCALENDAR
VERSION:2.0
PRODID:-//World Fellowship Center - ECPv4.9.8//NONSGML v1.0//EN
CALSCALE:GREGORIAN
METHOD:PUBLISH
X-WR-CALNAME:World Fellowship Center
X-ORIGINAL-URL:https://worldfellowship.org
X-WR-CALDESC:Events for World Fellowship Center
BEGIN:VTIMEZONE
TZID:America/New_York
BEGIN:DAYLIGHT
TZOFFSETFROM:-0500
TZOFFSETTO:-0400
TZNAME:EDT
DTSTART:20210314T070000
END:DAYLIGHT
BEGIN:STANDARD
TZOFFSETFROM:-0400
TZOFFSETTO:-0500
TZNAME:EST
DTSTART:20211107T060000
END:STANDARD
END:VTIMEZONE
BEGIN:VEVENT
DTSTART;VALUE=DATE:20210725
DTEND;VALUE=DATE:20210729
DTSTAMP:20260426T001407
CREATED:20210407T225113Z
LAST-MODIFIED:20210717T205337Z
UID:2354-1627171200-1627516799@worldfellowship.org
SUMMARY:Early Music Workshop
DESCRIPTION:From the faculty concert on Sunday evening through Wednesday morning evaluation\, you can enjoy an  opportunity for small group study and performance of music from the Medieval\, Renaissance\, and Baroque periods. Amateur and professional instrumentalists aged 14 and up who can read music are welcome.  The focus of the program is chamber music\, with performance opportunities. Family members and friends who do not participate in the program are welcome\, too! \nFaculty: Victoria Suchodolski\, director\, harpsicord; Benjamin Swartz\, viola da gamba and Baroque cello; Lidia Chang\, traverso flute and recorder ensemble; Emily Hale\, Baroque violin; and Anastasia Black\, voice. \nRegister for accommodations www.worldfellowship.org/book-now\nComplete the questionnaire and registration for the program here. \n
URL:https://worldfellowship.org/event/early-music-week/
LOCATION:World Fellowship Center\, 368 Drake Hill Rd\, Albany\, NH\, 03818\, United States
CATEGORIES:Workshop with registration required
END:VEVENT
END:VCALENDAR