BEGIN:VCALENDAR
VERSION:2.0
PRODID:-//World Fellowship Center - ECPv4.9.8//NONSGML v1.0//EN
CALSCALE:GREGORIAN
METHOD:PUBLISH
X-WR-CALNAME:World Fellowship Center
X-ORIGINAL-URL:https://worldfellowship.org
X-WR-CALDESC:Events for World Fellowship Center
BEGIN:VTIMEZONE
TZID:America/New_York
BEGIN:DAYLIGHT
TZOFFSETFROM:-0500
TZOFFSETTO:-0400
TZNAME:EDT
DTSTART:20220313T070000
END:DAYLIGHT
BEGIN:STANDARD
TZOFFSETFROM:-0400
TZOFFSETTO:-0500
TZNAME:EST
DTSTART:20221106T060000
END:STANDARD
END:VTIMEZONE
BEGIN:VEVENT
DTSTART;TZID="America/New_York":20220828T140000
DTEND;TZID="America/New_York":20220828T160000
DTSTAMP:20260423T102753
CREATED:20220813T194829Z
LAST-MODIFIED:20220813T194829Z
UID:4753-1661695200-1661702400@worldfellowship.org
SUMMARY:Astral Underground
DESCRIPTION:ASTRAL UNDERGROUND  is a trio ensemble from Enosburg Falls and Sheldon\, Vermont\, with Margaux Simmons\, flutes; John Notaro\, drums and percussion; and Ben Maddox\, keys and guitar.   They play ethereally improvised music that is inspired by each of their eclectic musical backgrounds. \n
URL:https://worldfellowship.org/event/astral-underground/
LOCATION:World Fellowship Center\, 368 Drake Hill Rd\, Albany\, NH\, 03818\, United States
END:VEVENT
END:VCALENDAR