BEGIN:VCALENDAR
VERSION:2.0
PRODID:-//World Fellowship Center - ECPv4.9.8//NONSGML v1.0//EN
CALSCALE:GREGORIAN
METHOD:PUBLISH
X-WR-CALNAME:World Fellowship Center
X-ORIGINAL-URL:https://worldfellowship.org
X-WR-CALDESC:Events for World Fellowship Center
BEGIN:VTIMEZONE
TZID:America/New_York
BEGIN:DAYLIGHT
TZOFFSETFROM:-0500
TZOFFSETTO:-0400
TZNAME:EDT
DTSTART:20220313T070000
END:DAYLIGHT
BEGIN:STANDARD
TZOFFSETFROM:-0400
TZOFFSETTO:-0500
TZNAME:EST
DTSTART:20221106T060000
END:STANDARD
END:VTIMEZONE
BEGIN:VEVENT
DTSTART;TZID="America/New_York":20220820T110000
DTEND;TZID="America/New_York":20220820T120000
DTSTAMP:20260423T101101
CREATED:20220818T150028Z
LAST-MODIFIED:20220818T150028Z
UID:4767-1660993200-1660996800@worldfellowship.org
SUMMARY:Beyond Nuclear
DESCRIPTION:Join Paul and Linda Gunter\, Co-Directors of Beyond Nuclear\, for a program updating us on nuclear weapons- as they have recently returned from the International Campaign to Abolish Nuclear Weapons! \n
URL:https://worldfellowship.org/event/beyond-nuclear/
LOCATION:World Fellowship Center\, 368 Drake Hill Rd\, Albany\, NH\, 03818\, United States
END:VEVENT
END:VCALENDAR