BEGIN:VCALENDAR
VERSION:2.0
PRODID:-//World Fellowship Center - ECPv4.9.8//NONSGML v1.0//EN
CALSCALE:GREGORIAN
METHOD:PUBLISH
X-WR-CALNAME:World Fellowship Center
X-ORIGINAL-URL:https://worldfellowship.org
X-WR-CALDESC:Events for World Fellowship Center
BEGIN:VTIMEZONE
TZID:America/New_York
BEGIN:DAYLIGHT
TZOFFSETFROM:-0500
TZOFFSETTO:-0400
TZNAME:EDT
DTSTART:20210314T070000
END:DAYLIGHT
BEGIN:STANDARD
TZOFFSETFROM:-0400
TZOFFSETTO:-0500
TZNAME:EST
DTSTART:20211107T060000
END:STANDARD
END:VTIMEZONE
BEGIN:VEVENT
DTSTART;TZID="America/New_York":20210828T100000
DTEND;TZID="America/New_York":20210828T113000
DTSTAMP:20260423T101744
CREATED:20210718T205204Z
LAST-MODIFIED:20210719T110335Z
UID:2543-1630144800-1630150200@worldfellowship.org
SUMMARY:Decoding and Decolonizing Children’s Literature
DESCRIPTION:A workshop with Little Uprisings co-founder Tanya Nixon-Silberg exploring popular children’s book titles as critical texts — opportunities to notice\, critically read\, and disrupt dominant narratives with children around race\, gender\, ethnicity\, LGBTQ identity\, immigrant identity\, and other marginalized identities. \nTanya (she/her) is a Black mother\,  educator\, artist\, and radical dreamer. Her work informs the intersection of all these identities. Called a “translator”\, Tanya has the ability to distill concepts of racial justice to young children in ways that help them imagine and take back a world where with community\, they have agency\, and can take action for change and has been doing this work for over 7 years. Tanya’s life’s goal is to make sure that Black and Brown children recognize that racism is systemic; that educators not shy away from confronting systemic racism in the classroom and that engaging in this work collectively helps us to heal. \n
URL:https://worldfellowship.org/event/decoding-and-decolonizing-childrens-literature/
LOCATION:World Fellowship Center\, 368 Drake Hill Rd\, Albany\, NH\, 03818\, United States
CATEGORIES:Program Presentation
END:VEVENT
END:VCALENDAR