BEGIN:VCALENDAR
VERSION:2.0
PRODID:-//World Fellowship Center - ECPv4.9.8//NONSGML v1.0//EN
CALSCALE:GREGORIAN
METHOD:PUBLISH
X-WR-CALNAME:World Fellowship Center
X-ORIGINAL-URL:https://worldfellowship.org
X-WR-CALDESC:Events for World Fellowship Center
BEGIN:VTIMEZONE
TZID:America/New_York
BEGIN:DAYLIGHT
TZOFFSETFROM:-0500
TZOFFSETTO:-0400
TZNAME:EDT
DTSTART:20260308T070000
END:DAYLIGHT
BEGIN:STANDARD
TZOFFSETFROM:-0400
TZOFFSETTO:-0500
TZNAME:EST
DTSTART:20261101T060000
END:STANDARD
END:VTIMEZONE
BEGIN:VEVENT
DTSTART;TZID="America/New_York":20260713T193000
DTEND;TZID="America/New_York":20260713T210000
DTSTAMP:20260420T180753
CREATED:20260420T122819Z
LAST-MODIFIED:20260420T123614Z
UID:7822-1783971000-1783976400@worldfellowship.org
SUMMARY:Henri Cartier-Bresson: Master Street Photographer
DESCRIPTION:The life and work of Henri Cartier-Bresson\, the legendary and influential photographer\, spanned the most important historical events of the 20th century that continue to impact our understanding of the world today. His belief in capturing the “decisive moment” went beyond his artistic expansions of documentary photography to be present and photograph Africa in the 1920’s\, the tragic fate of the Republicans during the Spanish Civil War\, the liberation of Paris during WW2\, Gandhi during the last hours of his life and changing events in China. His lived experiences of working with film director Jean Renoir\, being interned in prison camps during the war to being one of the founders of the photo agency Magnum\, and portrait photographer of writers and artists such as Faulkner\, Camus and many others gave his work depth and meaning that endures. \nPresented by Gina Bilander\, photographer \n \n  \n
URL:https://worldfellowship.org/event/henri-cartier-bresson-master-street-photographer/
LOCATION:World Fellowship Center\, 368 Drake Hill Rd\, Albany\, NH\, 03818\, United States
END:VEVENT
END:VCALENDAR