BEGIN:VCALENDAR
VERSION:2.0
PRODID:-//World Fellowship Center - ECPv4.9.8//NONSGML v1.0//EN
CALSCALE:GREGORIAN
METHOD:PUBLISH
X-WR-CALNAME:World Fellowship Center
X-ORIGINAL-URL:https://worldfellowship.org
X-WR-CALDESC:Events for World Fellowship Center
BEGIN:VTIMEZONE
TZID:America/New_York
BEGIN:DAYLIGHT
TZOFFSETFROM:-0500
TZOFFSETTO:-0400
TZNAME:EDT
DTSTART:20230312T070000
END:DAYLIGHT
BEGIN:STANDARD
TZOFFSETFROM:-0400
TZOFFSETTO:-0500
TZNAME:EST
DTSTART:20231105T060000
END:STANDARD
END:VTIMEZONE
BEGIN:VEVENT
DTSTART;TZID="America/New_York":20230715T100000
DTEND;TZID="America/New_York":20230715T120000
DTSTAMP:20260424T151934
CREATED:20230314T025215Z
LAST-MODIFIED:20230615T190041Z
UID:5427-1689415200-1689422400@worldfellowship.org
SUMMARY:Learning about World Fellowship's Land
DESCRIPTION:Three years ago\, World Fellowship granted three separate conservation easements to the Upper Saco Valley Land Trust in order to permanently protect nearly 400 acres of the land and shorefront on Whitton Pond. Part of this process included an assessment of our land to see what was there. Learn about what they identified in their survey – streams\, marshes\, peatlands\, swamps\, vernal pools\, trees and rich forest soil\, and nesting sites for the Common Loon\, who have returned to Whitton Pond for over 100 years. \n
URL:https://worldfellowship.org/event/learning-about-world-fellowships-land/
LOCATION:World Fellowship Center\, 368 Drake Hill Rd\, Albany\, NH\, 03818\, United States
END:VEVENT
END:VCALENDAR