BEGIN:VCALENDAR
VERSION:2.0
PRODID:-//World Fellowship Center - ECPv4.9.8//NONSGML v1.0//EN
CALSCALE:GREGORIAN
METHOD:PUBLISH
X-WR-CALNAME:World Fellowship Center
X-ORIGINAL-URL:https://worldfellowship.org
X-WR-CALDESC:Events for World Fellowship Center
BEGIN:VTIMEZONE
TZID:America/New_York
BEGIN:DAYLIGHT
TZOFFSETFROM:-0500
TZOFFSETTO:-0400
TZNAME:EDT
DTSTART:20200308T070000
END:DAYLIGHT
BEGIN:STANDARD
TZOFFSETFROM:-0400
TZOFFSETTO:-0500
TZNAME:EST
DTSTART:20201101T060000
END:STANDARD
END:VTIMEZONE
BEGIN:VEVENT
DTSTART;TZID="America/New_York":20200729T080000
DTEND;TZID="America/New_York":20200729T170000
DTSTAMP:20260423T085643
CREATED:20200730T033320Z
LAST-MODIFIED:20200730T033320Z
UID:1935-1596009600-1596042000@worldfellowship.org
SUMMARY:Morning Announcements
DESCRIPTION:\n \n\n \nMorning Announcements for Wednesday\, July 29\, 2020\, featuring the "Bonus Army" of 1932 and a QOTD from cultural trauma navigator Resmaa Menakem. \nPosted by World Fellowship Center on Wednesday\, July 29\, 2020 \n\n
URL:https://worldfellowship.org/event/morning-announcements-26/
LOCATION:World Fellowship Center\, 368 Drake Hill Rd\, Albany\, NH\, 03818\, United States
END:VEVENT
END:VCALENDAR