BEGIN:VCALENDAR
VERSION:2.0
PRODID:-//World Fellowship Center - ECPv4.9.8//NONSGML v1.0//EN
CALSCALE:GREGORIAN
METHOD:PUBLISH
X-WR-CALNAME:World Fellowship Center
X-ORIGINAL-URL:https://worldfellowship.org
X-WR-CALDESC:Events for World Fellowship Center
BEGIN:VTIMEZONE
TZID:America/New_York
BEGIN:DAYLIGHT
TZOFFSETFROM:-0500
TZOFFSETTO:-0400
TZNAME:EDT
DTSTART:20200308T070000
END:DAYLIGHT
BEGIN:STANDARD
TZOFFSETFROM:-0400
TZOFFSETTO:-0500
TZNAME:EST
DTSTART:20201101T060000
END:STANDARD
END:VTIMEZONE
BEGIN:VEVENT
DTSTART;TZID="America/New_York":20200803T080000
DTEND;TZID="America/New_York":20200803T170000
DTSTAMP:20260423T085635
CREATED:20200810T152923Z
LAST-MODIFIED:20200810T153045Z
UID:1975-1596441600-1596474000@worldfellowship.org
SUMMARY:Morning Announcements
DESCRIPTION:\n \n\n \nMorning Announcements for Monday\, August 3\, 2020\, featuring an anecdote about the French novelist Colette and Truman Capote. Oh\, and a QOTD from that wonderful recorded conversation between James Baldwin and Nikki Giovanni. \nPosted by World Fellowship Center on Monday\, August 3\, 2020 \n\n
URL:https://worldfellowship.org/event/morning-announcements-35/
LOCATION:World Fellowship Center\, 368 Drake Hill Rd\, Albany\, NH\, 03818\, United States
END:VEVENT
END:VCALENDAR