BEGIN:VCALENDAR
VERSION:2.0
PRODID:-//World Fellowship Center - ECPv4.9.8//NONSGML v1.0//EN
CALSCALE:GREGORIAN
METHOD:PUBLISH
X-WR-CALNAME:World Fellowship Center
X-ORIGINAL-URL:https://worldfellowship.org
X-WR-CALDESC:Events for World Fellowship Center
BEGIN:VTIMEZONE
TZID:America/New_York
BEGIN:DAYLIGHT
TZOFFSETFROM:-0500
TZOFFSETTO:-0400
TZNAME:EDT
DTSTART:20260308T070000
END:DAYLIGHT
BEGIN:STANDARD
TZOFFSETFROM:-0400
TZOFFSETTO:-0500
TZNAME:EST
DTSTART:20261101T060000
END:STANDARD
END:VTIMEZONE
BEGIN:VEVENT
DTSTART;TZID="America/New_York":20260715T100000
DTEND;TZID="America/New_York":20260715T120000
DTSTAMP:20260420T180907
CREATED:20260420T115541Z
LAST-MODIFIED:20260420T122004Z
UID:7806-1784109600-1784116800@worldfellowship.org
SUMMARY:Nature Photography Workshop (Gina Bilander\, photographer)
DESCRIPTION:\nGina Bilander presents a 5-day (M-F) nature photography workshop. All ages and levels of skill and equipment are welcome as we learn to translate what we see and respond to into photographs: that art and science of light. Morning sessions are from 10am to 12. Daily handouts are given on technique\, the history of photography and nature essays; and there a nearby field trips. One class discusses whether\, in this age of 24 hour multimedia saturation\, a photograph can still bear witness to the important issues of this time. \n \n\n
URL:https://worldfellowship.org/event/nature-photography-workshop-gina-bilander-photographer-2/2026-07-15/
LOCATION:World Fellowship Center\, 368 Drake Hill Rd\, Albany\, NH\, 03818\, United States
CATEGORIES:Workshop
END:VEVENT
END:VCALENDAR