BEGIN:VCALENDAR
VERSION:2.0
PRODID:-//World Fellowship Center - ECPv4.9.8//NONSGML v1.0//EN
CALSCALE:GREGORIAN
METHOD:PUBLISH
X-WR-CALNAME:World Fellowship Center
X-ORIGINAL-URL:https://worldfellowship.org
X-WR-CALDESC:Events for World Fellowship Center
BEGIN:VTIMEZONE
TZID:America/New_York
BEGIN:DAYLIGHT
TZOFFSETFROM:-0500
TZOFFSETTO:-0400
TZNAME:EDT
DTSTART:20260308T070000
END:DAYLIGHT
BEGIN:STANDARD
TZOFFSETFROM:-0400
TZOFFSETTO:-0500
TZNAME:EST
DTSTART:20261101T060000
END:STANDARD
END:VTIMEZONE
BEGIN:VEVENT
DTSTART;TZID="America/New_York":20260420T080000
DTEND;TZID="America/New_York":20260420T170000
DTSTAMP:20260420T151946
CREATED:20260420T112551Z
LAST-MODIFIED:20260420T112551Z
UID:7725-1776672000-1776704400@worldfellowship.org
SUMMARY:Sol y Canto Performs
DESCRIPTION: \n
URL:https://worldfellowship.org/event/sol-y-canto-performs/
LOCATION:World Fellowship Center\, 368 Drake Hill Rd\, Albany\, NH\, 03818\, United States
END:VEVENT
END:VCALENDAR