BEGIN:VCALENDAR
VERSION:2.0
PRODID:-//World Fellowship Center - ECPv4.9.8//NONSGML v1.0//EN
CALSCALE:GREGORIAN
METHOD:PUBLISH
X-WR-CALNAME:World Fellowship Center
X-ORIGINAL-URL:https://worldfellowship.org
X-WR-CALDESC:Events for World Fellowship Center
BEGIN:VTIMEZONE
TZID:America/New_York
BEGIN:DAYLIGHT
TZOFFSETFROM:-0500
TZOFFSETTO:-0400
TZNAME:EDT
DTSTART:20240310T070000
END:DAYLIGHT
BEGIN:STANDARD
TZOFFSETFROM:-0400
TZOFFSETTO:-0500
TZNAME:EST
DTSTART:20241103T060000
END:STANDARD
END:VTIMEZONE
BEGIN:VEVENT
DTSTART;TZID="America/New_York":20240524T150000
DTEND;TZID="America/New_York":20240527T170000
DTSTAMP:20260423T004424
CREATED:20240412T124346Z
LAST-MODIFIED:20240412T124547Z
UID:6145-1716562800-1716829200@worldfellowship.org
SUMMARY:Spring 2024 Work Weekend!
DESCRIPTION:Gather at World Fellowship as spring blooms to help us get ready for the Summer 2024 season! We’ve got landscaping and garden projects galore\, hiking trails to clear after the winter storms\, and a waterfront to get ready for swimming and boating. Be outside and be together!  \nFree room and board for all weekend volunteers. Sign up in advance to guarantee your spot. Evening fun and a Memorial Day morning mushroom walk also on offer during your stay! \n
URL:https://worldfellowship.org/event/spring-2024-work-weekend/
LOCATION:World Fellowship Center\, 368 Drake Hill Rd\, Albany\, NH\, 03818\, United States
CATEGORIES:Community Event
END:VEVENT
END:VCALENDAR