BEGIN:VCALENDAR
VERSION:2.0
PRODID:-//World Fellowship Center - ECPv4.9.8//NONSGML v1.0//EN
CALSCALE:GREGORIAN
METHOD:PUBLISH
X-WR-CALNAME:World Fellowship Center
X-ORIGINAL-URL:https://worldfellowship.org
X-WR-CALDESC:Events for World Fellowship Center
BEGIN:VTIMEZONE
TZID:America/New_York
BEGIN:DAYLIGHT
TZOFFSETFROM:-0500
TZOFFSETTO:-0400
TZNAME:EDT
DTSTART:20240310T070000
END:DAYLIGHT
BEGIN:STANDARD
TZOFFSETFROM:-0400
TZOFFSETTO:-0500
TZNAME:EST
DTSTART:20241103T060000
END:STANDARD
END:VTIMEZONE
BEGIN:VEVENT
DTSTART;TZID="America/New_York":20240518T103000
DTEND;TZID="America/New_York":20240518T120000
DTSTAMP:20260423T042233
CREATED:20240331T132616Z
LAST-MODIFIED:20240401T100707Z
UID:5985-1716028200-1716033600@worldfellowship.org
SUMMARY:The Equality Blueprint: Rethinking Solutions for Palestinians and Israelis (Samer Elchahabi) *VIRTUAL PROGRAM*
DESCRIPTION:Samer Elchahabi is a Palestinian-American expert in international governance and democracy\, with extensive experience across Southwest Asia and North Africa (SWANA). Recently\, he published an article on the potential of a one state-solution to achieve lasting equality in Israel/Palestine. In his upcoming presentation\, Samer will offer insights and strategies to realize this vision\, emphasizing the importance of equal rights\, justice\, and collaborative efforts in shaping a sustainable peace. \n\nUnderstanding the Landscape. Revisit the one-state solution as a pathway to sustainable peace\, underpinned by the assurance of equal rights and justice for all inhabitants from the river to the sea\, traversing the historical nuances\, the present-day intricacies\, and the transformative potential of a unified state paradigm.\nStrategic Frameworks. Explore strategies that resonate with the empowerment ethos of Palestinian movements. The dialogue will span international diplomacy\, grassroots activism\, policy innovation\, and educational endeavors aimed at fostering an environment of mutual understanding\, respect\, and shared governance to achieve systemic change.\nCollaborative Efforts. Underscore the imperative of building alliances among local communities\, international organizations\, and governments. We will delve into global examples of reconciliation and equitable governance\, illustrating how such alliances can be instrumental in transforming societal structures and narratives.\nActionable Steps. Outlining practical steps\, we will connect advocacy and empowerment strategies to promote/support the equality blueprint. This will encompass supporting peace-building programs\, engaging in holistic advocacy\, and nurturing educational and cultural exchanges that embody the spirit of equality\, justice\, and mutual respect.\n\nThis online program will last for 1.5 hours to allow 30 minutes for Q&A/discussion. Register to receive Zoom link/passcode. \n
URL:https://worldfellowship.org/event/the-equality-blueprint-rethinking-solutions-for-palestinians-and-israelis-samer-elchahabi-virtual-program/
LOCATION:World Fellowship Center\, 368 Drake Hill Rd\, Albany\, NH\, 03818\, United States
CATEGORIES:Program Presentation,Virtual Presentation
END:VEVENT
END:VCALENDAR