BEGIN:VCALENDAR
VERSION:2.0
PRODID:-//World Fellowship Center - ECPv4.9.8//NONSGML v1.0//EN
CALSCALE:GREGORIAN
METHOD:PUBLISH
X-WR-CALNAME:World Fellowship Center
X-ORIGINAL-URL:https://worldfellowship.org
X-WR-CALDESC:Events for World Fellowship Center
BEGIN:VTIMEZONE
TZID:America/New_York
BEGIN:DAYLIGHT
TZOFFSETFROM:-0500
TZOFFSETTO:-0400
TZNAME:EDT
DTSTART:20240310T070000
END:DAYLIGHT
BEGIN:STANDARD
TZOFFSETFROM:-0400
TZOFFSETTO:-0500
TZNAME:EST
DTSTART:20241103T060000
END:STANDARD
END:VTIMEZONE
BEGIN:VEVENT
DTSTART;TZID="America/New_York":20240824T100000
DTEND;TZID="America/New_York":20240824T120000
DTSTAMP:20260423T021959
CREATED:20240420T131728Z
LAST-MODIFIED:20240420T132057Z
UID:6161-1724493600-1724500800@worldfellowship.org
SUMMARY:Transformative Advocacy & Awakening Citizens to Their Power: A Climate Advocacy Case Study (Gary Rucinski\, activist)
DESCRIPTION:Former Vice President Al Gore once remarked that “all we lack is the political will” to act on climate. In 2007 a retired real estate agent from southern California decided to do something about this. He founded Citizens’ Climate Lobby with a mission of building the political will for a livable world by awakening individuals to their power as citizens. \nIn this interactive session\, participants will be introduced to the concept of transformational advocacy with examples drawn from the speaker’s 15-year history with CCL. Key to this experience has been the speaker’s own awakening to his power as a citizen and the equally rewarding experience of helping others do the same. Leave this session with an understanding of how to use transformational advocacy to advance solutions to issues you care about. \nGary Rucinski is a physicist\, the Northeast Regional Coordinator for Citizens Climate Lobby\, and the founder of Committee for a Green Economy\, who has also run for a Massachusetts’ congressional seat and more local positions over recent years. \n
URL:https://worldfellowship.org/event/transformative-advocacy-and-awakening-citizens-to-their-power-a-climate-advocacy-case-study-gary-rucinski-activist/
LOCATION:World Fellowship Center\, 368 Drake Hill Rd\, Albany\, NH\, 03818\, United States
CATEGORIES:Program Presentation
END:VEVENT
END:VCALENDAR