BEGIN:VCALENDAR
VERSION:2.0
PRODID:-//World Fellowship Center - ECPv4.9.8//NONSGML v1.0//EN
CALSCALE:GREGORIAN
METHOD:PUBLISH
X-WR-CALNAME:World Fellowship Center
X-ORIGINAL-URL:https://worldfellowship.org
X-WR-CALDESC:Events for World Fellowship Center
BEGIN:VTIMEZONE
TZID:America/New_York
BEGIN:DAYLIGHT
TZOFFSETFROM:-0500
TZOFFSETTO:-0400
TZNAME:EDT
DTSTART:20230312T070000
END:DAYLIGHT
BEGIN:STANDARD
TZOFFSETFROM:-0400
TZOFFSETTO:-0500
TZNAME:EST
DTSTART:20231105T060000
END:STANDARD
END:VTIMEZONE
BEGIN:VEVENT
DTSTART;TZID="America/New_York":20230704T160000
DTEND;TZID="America/New_York":20230704T173000
DTSTAMP:20260425T152648
CREATED:20230314T025412Z
LAST-MODIFIED:20230615T190051Z
UID:5322-1688486400-1688491800@worldfellowship.org
SUMMARY:WF Book of the Summer
DESCRIPTION:A lightly facilitated weekly discussion of the 2023 Book of the Summer selection\, Our Missing Hearts\, by Celeste Ng. Day/time may vary based on guest preferences each week\, or multiple groups may be held in one week. Check the activity board and dining hall announcements. But come prepared to engage with this WF community read. \n
URL:https://worldfellowship.org/event/wf-book-of-the-summer/2023-07-04/
LOCATION:World Fellowship Center\, 368 Drake Hill Rd\, Albany\, NH\, 03818\, United States
END:VEVENT
END:VCALENDAR