BEGIN:VCALENDAR
VERSION:2.0
PRODID:-//World Fellowship Center - ECPv4.9.8//NONSGML v1.0//EN
CALSCALE:GREGORIAN
METHOD:PUBLISH
X-WR-CALNAME:World Fellowship Center
X-ORIGINAL-URL:https://worldfellowship.org
X-WR-CALDESC:Events for World Fellowship Center
BEGIN:VTIMEZONE
TZID:America/New_York
BEGIN:DAYLIGHT
TZOFFSETFROM:-0500
TZOFFSETTO:-0400
TZNAME:EDT
DTSTART:20210314T070000
END:DAYLIGHT
BEGIN:STANDARD
TZOFFSETFROM:-0400
TZOFFSETTO:-0500
TZNAME:EST
DTSTART:20211107T060000
END:STANDARD
END:VTIMEZONE
BEGIN:VEVENT
DTSTART;TZID="America/New_York":20211025T193000
DTEND;TZID="America/New_York":20211025T213000
DTSTAMP:20260419T144322
CREATED:20210928T204300Z
LAST-MODIFIED:20210928T205905Z
UID:2578-1635190200-1635197400@worldfellowship.org
SUMMARY:WFC Tomorrow: What do we want the future of WFC to be?
DESCRIPTION:The final conversation in this series – we invite you to dream with Octavia about the WFC we want to see in the next decade. What do we hope for the world and how does WFC play a role in the vision? Who do we want to carry on the legacy at World Fellowship and how do we build that legacy together? \nJoin on Zoom here. \n
URL:https://worldfellowship.org/event/wfc-tomorrow-what-do-we-want-the-future-of-wfc-to-be/
LOCATION:World Fellowship Center\, 368 Drake Hill Rd\, Albany\, NH\, 03818\, United States
END:VEVENT
END:VCALENDAR